BEGIN:VCALENDAR
PRODID:-//SINGPromos.com//NONSGML v1.0//EN
VERSION:2.0
CALSCALE:GREGORIAN
METHOD:PUBLISH
X-WR-CALNAME:SINGPromos.com
X-ORIGINAL-URL:https://singpromos.com
X-WR-CALDESC:Events for SINGPromos.com
BEGIN:VEVENT
DTSTART:20140607T000000
DTEND:20140608T235900
DTSTAMP:20260420T175727
CREATED:20140607T180922
LAST-MODIFIED:20140607T180922
UID:100071@https://singpromos.com
SUMMARY:Courts Mega Raya Sale Offers 7 - 8 Jun 2014
DESCRIPTION:Courts continues their Mega Raya Sale. Check out the offers below valid until 8 Jun 2014.. For more information, visit [ https://singpromos.com/department-stores/courts-mega-raya-sale-offers-7-8-jun-2014-100071/ ]. 
LOCATION:
URL:https://singpromos.com/department-stores/courts-mega-raya-sale-offers-7-8-jun-2014-100071/
END:VEVENT
END:VCALENDAR