BEGIN:VCALENDAR
PRODID:-//SINGPromos.com//NONSGML v1.0//EN
VERSION:2.0
CALSCALE:GREGORIAN
METHOD:PUBLISH
X-WR-CALNAME:SINGPromos.com
X-ORIGINAL-URL:https://singpromos.com
X-WR-CALDESC:Events for SINGPromos.com
BEGIN:VEVENT
DTSTART:20140612T000000
DTEND:20140624T235900
DTSTAMP:20260422T082116
CREATED:20140612T102810
LAST-MODIFIED:20140611T223304
UID:100683@https://singpromos.com
SUMMARY:Etihad Airways From $641 Australia & New Zealand Promo Air Fares 12 - 24 Jun 2014
DESCRIPTION:Brisbane from $641, Melbourne from $640, Adelaide from $645, Sydney from $683 and more. For more information, visit [ https://singpromos.com/airlines-flights/etihad-airways-from-641-australia-new-zealand-promo-air-fares-12-24-jun-2014-100683/ ]. 
LOCATION:
URL:https://singpromos.com/airlines-flights/etihad-airways-from-641-australia-new-zealand-promo-air-fares-12-24-jun-2014-100683/
END:VEVENT
END:VCALENDAR