BEGIN:VCALENDAR
PRODID:-//SINGPromos.com//NONSGML v1.0//EN
VERSION:2.0
CALSCALE:GREGORIAN
METHOD:PUBLISH
X-WR-CALNAME:SINGPromos.com
X-ORIGINAL-URL:https://singpromos.com
X-WR-CALDESC:Events for SINGPromos.com
BEGIN:VEVENT
DTSTART:20140611T000000
DTEND:20140617T235900
DTSTAMP:20260422T082239
CREATED:20140614T174414
LAST-MODIFIED:20140614T174518
UID:101136@https://singpromos.com
SUMMARY:Elizabeth Arden Roadshow @ Raffles City 11 - 17 Jun 2014
DESCRIPTION:New Untold Eau Legere fragrance reflects the more light-hearted side of today's modern woman as she thrives in her life's journey.. For more information, visit [ https://singpromos.com/fragrances-perfumes/elizabeth-arden-roadshow-raffles-city-11-17-jun-2014-101136/ ]. 
LOCATION:179103
URL:https://singpromos.com/fragrances-perfumes/elizabeth-arden-roadshow-raffles-city-11-17-jun-2014-101136/
END:VEVENT
END:VCALENDAR