BEGIN:VCALENDAR
PRODID:-//SINGPromos.com//NONSGML v1.0//EN
VERSION:2.0
CALSCALE:GREGORIAN
METHOD:PUBLISH
X-WR-CALNAME:SINGPromos.com
X-ORIGINAL-URL:https://singpromos.com
X-WR-CALDESC:Events for SINGPromos.com
BEGIN:VEVENT
DTSTART:20140614T000000
DTEND:20140615T235900
DTSTAMP:20260420T040700
CREATED:20140614T191617
LAST-MODIFIED:20140614T191617
UID:101159@https://singpromos.com
SUMMARY:Courts Mega Raya Sale Offers 14 - 15 Jun 2014
DESCRIPTION:Courts continues their Mega Raya Sale. Check out the offers below valid until 15 Jun 2014.. For more information, visit [ https://singpromos.com/department-stores/courts-mega-raya-sale-offers-14-15-jun-2014-101159/ ]. 
LOCATION:
URL:https://singpromos.com/department-stores/courts-mega-raya-sale-offers-14-15-jun-2014-101159/
END:VEVENT
END:VCALENDAR