BEGIN:VCALENDAR
PRODID:-//SINGPromos.com//NONSGML v1.0//EN
VERSION:2.0
CALSCALE:GREGORIAN
METHOD:PUBLISH
X-WR-CALNAME:SINGPromos.com
X-ORIGINAL-URL:https://singpromos.com
X-WR-CALDESC:Events for SINGPromos.com
BEGIN:VEVENT
DTSTART:20140618T000000
DTEND:20140630T235900
DTSTAMP:20260420T191243
CREATED:20140618T201817
LAST-MODIFIED:20140618T201817
UID:101655@https://singpromos.com
SUMMARY:Dunkin' Donuts $5 Blowout Deal 18 - 30 Jun 2014
DESCRIPTION:Get 3 Regular Donuts and 1 Iced Coffee for just $5 (usual $8.10). For more information, visit [ https://singpromos.com/dining-restaurants-food/dunkin-donuts-5-blowout-deal-18-30-jun-2014-101655/ ]. 
LOCATION:
URL:https://singpromos.com/dining-restaurants-food/dunkin-donuts-5-blowout-deal-18-30-jun-2014-101655/
END:VEVENT
END:VCALENDAR