BEGIN:VCALENDAR
PRODID:-//SINGPromos.com//NONSGML v1.0//EN
VERSION:2.0
CALSCALE:GREGORIAN
METHOD:PUBLISH
X-WR-CALNAME:SINGPromos.com
X-ORIGINAL-URL:https://singpromos.com
X-WR-CALDESC:Events for SINGPromos.com
BEGIN:VEVENT
DTSTART:20140620T000000
DTEND:20140622T235900
DTSTAMP:20260420T055400
CREATED:20140620T143915
LAST-MODIFIED:20140620T143915
UID:101896@https://singpromos.com
SUMMARY:Giant Hypermarket Branded Toys SALE @ Tampines 20 - 22 Jun 2014
DESCRIPTION:Up to 80% Off Fisher-Price, Barbie, Hot Wheels and more. For more information, visit [ https://singpromos.com/kids/giant-hypermarket-branded-toys-sale-tampines-20-22-jun-2014-101896/ ]. 
LOCATION:528765
URL:https://singpromos.com/kids/giant-hypermarket-branded-toys-sale-tampines-20-22-jun-2014-101896/
END:VEVENT
END:VCALENDAR