BEGIN:VCALENDAR
PRODID:-//SINGPromos.com//NONSGML v1.0//EN
VERSION:2.0
CALSCALE:GREGORIAN
METHOD:PUBLISH
X-WR-CALNAME:SINGPromos.com
X-ORIGINAL-URL:https://singpromos.com
X-WR-CALDESC:Events for SINGPromos.com
BEGIN:VEVENT
DTSTART:20140621T000000
DTEND:20140629T235900
DTSTAMP:20260420T052603
CREATED:20140620T190350
LAST-MODIFIED:20140620T190350
UID:101951@https://singpromos.com
SUMMARY:Cristofori Great Piano Warehouse Sale 21 - 29 Jun 2014
DESCRIPTION:Great Piano Warehouse Sale from 21 June to 29 June 2014. For more information, visit [ https://singpromos.com/warehouse-sales/cristofori-great-piano-warehouse-sale-21-29-jun-2014-101951/ ]. 
LOCATION:Bedok Industrial Park E, 489980
URL:https://singpromos.com/warehouse-sales/cristofori-great-piano-warehouse-sale-21-29-jun-2014-101951/
END:VEVENT
END:VCALENDAR