BEGIN:VCALENDAR
PRODID:-//SINGPromos.com//NONSGML v1.0//EN
VERSION:2.0
CALSCALE:GREGORIAN
METHOD:PUBLISH
X-WR-CALNAME:SINGPromos.com
X-ORIGINAL-URL:https://singpromos.com
X-WR-CALDESC:Events for SINGPromos.com
BEGIN:VEVENT
DTSTART:20140621T000000
DTEND:20140622T235900
DTSTAMP:20260422T062951
CREATED:20140621T162814
LAST-MODIFIED:20140621T162814
UID:102105@https://singpromos.com
SUMMARY:Courts Mega Raya Sale Offers 21 - 22 Jun 2014
DESCRIPTION:Courts continues their Mega Raya Sale. Also enjoy $50 Discount at their online store with the Promotion Code Coupon Code. For more information, visit [ https://singpromos.com/department-stores/courts-mega-raya-sale-offers-21-22-jun-2014-102105/ ]. 
LOCATION:
URL:https://singpromos.com/department-stores/courts-mega-raya-sale-offers-21-22-jun-2014-102105/
END:VEVENT
END:VCALENDAR