BEGIN:VCALENDAR
PRODID:-//SINGPromos.com//NONSGML v1.0//EN
VERSION:2.0
CALSCALE:GREGORIAN
METHOD:PUBLISH
X-WR-CALNAME:SINGPromos.com
X-ORIGINAL-URL:https://singpromos.com
X-WR-CALDESC:Events for SINGPromos.com
BEGIN:VEVENT
DTSTART:20140620T000000
DTEND:20140703T235900
DTSTAMP:20260424T034620
CREATED:20140622T122728
LAST-MODIFIED:20140622T122728
UID:102179@https://singpromos.com
SUMMARY:Giant Hypermarket Cooling Appliances Offers 20 Jun - 3 Jul 2014
DESCRIPTION:Get a breath of Fresh Air. Featuring EuropAce, Sharp, Sona, iFan fans, air purifiers, air conditioners, portable air conditioners and more. For more information, visit [ https://singpromos.com/home-appliances/giant-hypermarket-cooling-appliances-offers-20-jun-3-jul-2014-102179/ ]. 
LOCATION:
URL:https://singpromos.com/home-appliances/giant-hypermarket-cooling-appliances-offers-20-jun-3-jul-2014-102179/
END:VEVENT
END:VCALENDAR