BEGIN:VCALENDAR
PRODID:-//SINGPromos.com//NONSGML v1.0//EN
VERSION:2.0
CALSCALE:GREGORIAN
METHOD:PUBLISH
X-WR-CALNAME:SINGPromos.com
X-ORIGINAL-URL:https://singpromos.com
X-WR-CALDESC:Events for SINGPromos.com
BEGIN:VEVENT
DTSTART:20140619T000000
DTEND:20140702T235900
DTSTAMP:20260420T040715
CREATED:20140623T193210
LAST-MODIFIED:20140623T193249
UID:102306@https://singpromos.com
SUMMARY:Malaysia Airlines From $75 KL & Kuching Promo Air Fares 19 Jun - 2 Jul 2014
DESCRIPTION:Fly from Singapore to Kuala Lumpur and Kuching via Malaysia Airlines from just $75. For more information, visit [ https://singpromos.com/airlines-flights/malaysia-airlines-from-75-kl-kuching-promo-air-fares-19-jun-2-jul-2014-102306/ ]. 
LOCATION:
URL:https://singpromos.com/airlines-flights/malaysia-airlines-from-75-kl-kuching-promo-air-fares-19-jun-2-jul-2014-102306/
END:VEVENT
END:VCALENDAR