BEGIN:VCALENDAR
PRODID:-//SINGPromos.com//NONSGML v1.0//EN
VERSION:2.0
CALSCALE:GREGORIAN
METHOD:PUBLISH
X-WR-CALNAME:SINGPromos.com
X-ORIGINAL-URL:https://singpromos.com
X-WR-CALDESC:Events for SINGPromos.com
BEGIN:VEVENT
DTSTART:20140704T000000
DTEND:20140706T235900
DTSTAMP:20260420T021011
CREATED:20140624T192553
LAST-MODIFIED:20140629T161057
UID:102387@https://singpromos.com
SUMMARY:Baby Baby Fair @ Singapore Expo 4 - 6 Jul 2014
DESCRIPTION:Find everything you need to get ready for your new arrival and guide you through the early weeks and years of parenting.. For more information, visit [ https://singpromos.com/happenings/baby-baby-fair-singapore-expo-4-6-jul-2014-102387/ ]. 
LOCATION:486150
URL:https://singpromos.com/happenings/baby-baby-fair-singapore-expo-4-6-jul-2014-102387/
END:VEVENT
END:VCALENDAR