BEGIN:VCALENDAR
PRODID:-//SINGPromos.com//NONSGML v1.0//EN
VERSION:2.0
CALSCALE:GREGORIAN
METHOD:PUBLISH
X-WR-CALNAME:SINGPromos.com
X-ORIGINAL-URL:https://singpromos.com
X-WR-CALDESC:Events for SINGPromos.com
BEGIN:VEVENT
DTSTART:20140626T000000
DTEND:20140630T235900
DTSTAMP:20260420T061925
CREATED:20140626T144706
LAST-MODIFIED:20140626T145209
UID:102552@https://singpromos.com
SUMMARY:British Airways Promotion Air Fares 26 - 30 Jun 2014
DESCRIPTION:Fly from Singapore to Netherlands (Amsterdam), France (Paris), Germany (Frankfurt), Brazil (Rio De Janeiro) and England (London). For more information, visit [ https://singpromos.com/airlines-flights/british-airways-promotion-air-fares-26-30-jun-2014-102552/ ]. 
LOCATION:
URL:https://singpromos.com/airlines-flights/british-airways-promotion-air-fares-26-30-jun-2014-102552/
END:VEVENT
END:VCALENDAR