BEGIN:VCALENDAR
PRODID:-//SINGPromos.com//NONSGML v1.0//EN
VERSION:2.0
CALSCALE:GREGORIAN
METHOD:PUBLISH
X-WR-CALNAME:SINGPromos.com
X-ORIGINAL-URL:https://singpromos.com
X-WR-CALDESC:Events for SINGPromos.com
BEGIN:VEVENT
DTSTART:20140626T000000
DTEND:20140727T235900
DTSTAMP:20260422T082304
CREATED:20140627T043329
LAST-MODIFIED:20140718T153809
UID:102680@https://singpromos.com
SUMMARY:Pumpkin Patch End of Season SALE (Further Reductions!) 26 Jun 2014
DESCRIPTION:Enjoy discounts of up to 50% OFF sale items. For more information, visit [ https://singpromos.com/fashion-accessories/pumpkin-patch-end-of-season-sale-26-jun-2014-102680/ ]. 
LOCATION:
URL:https://singpromos.com/fashion-accessories/pumpkin-patch-end-of-season-sale-26-jun-2014-102680/
END:VEVENT
END:VCALENDAR