BEGIN:VCALENDAR
PRODID:-//SINGPromos.com//NONSGML v1.0//EN
VERSION:2.0
CALSCALE:GREGORIAN
METHOD:PUBLISH
X-WR-CALNAME:SINGPromos.com
X-ORIGINAL-URL:https://singpromos.com
X-WR-CALDESC:Events for SINGPromos.com
BEGIN:VEVENT
DTSTART:20140627T000000
DTEND:20140629T235900
DTSTAMP:20260422T062833
CREATED:20140627T180310
LAST-MODIFIED:20140628T181231
UID:102723@https://singpromos.com
SUMMARY:Courts Mega Raya Clearout Offers 27 - 29 Jun 2014
DESCRIPTION:Courts is having a 3 days only Mega Raya Clear Out offers from 27 June to 29 June. For more information, visit [ https://singpromos.com/department-stores/courts-mega-raya-clearout-offers-27-29-jun-2014-102723/ ]. 
LOCATION:
URL:https://singpromos.com/department-stores/courts-mega-raya-clearout-offers-27-29-jun-2014-102723/
END:VEVENT
END:VCALENDAR