BEGIN:VCALENDAR
PRODID:-//SINGPromos.com//NONSGML v1.0//EN
VERSION:2.0
CALSCALE:GREGORIAN
METHOD:PUBLISH
X-WR-CALNAME:SINGPromos.com
X-ORIGINAL-URL:https://singpromos.com
X-WR-CALDESC:Events for SINGPromos.com
BEGIN:VEVENT
DTSTART:20140612T000000
DTEND:20140810T235900
DTSTAMP:20260420T051015
CREATED:20140629T012456
LAST-MODIFIED:20140629T012456
UID:103039@https://singpromos.com
SUMMARY:Samsung Colour & Monochrome Laser Printers Offers 12 Jun - 10 Aug 2014
DESCRIPTION:Receive FREE gifts such as Samsung microSD Card and Printer Toners when you purchase selected models.. For more information, visit [ https://singpromos.com/computers-pc/printers/samsung-colour-monochrome-laser-printers-offers-12-jun-10-aug-2014-103039/ ]. 
LOCATION:
URL:https://singpromos.com/computers-pc/printers/samsung-colour-monochrome-laser-printers-offers-12-jun-10-aug-2014-103039/
END:VEVENT
END:VCALENDAR