BEGIN:VCALENDAR
PRODID:-//SINGPromos.com//NONSGML v1.0//EN
VERSION:2.0
CALSCALE:GREGORIAN
METHOD:PUBLISH
X-WR-CALNAME:SINGPromos.com
X-ORIGINAL-URL:https://singpromos.com
X-WR-CALDESC:Events for SINGPromos.com
BEGIN:VEVENT
DTSTART:20140621T000000
DTEND:20140809T235900
DTSTAMP:20260420T203425
CREATED:20140703T174548
LAST-MODIFIED:20140713T003601
UID:103562@https://singpromos.com
SUMMARY:NDP 2014 Road Closures Singapore 21 Jun - 9 Aug 2014
DESCRIPTION:Here are the road closures in Singapore for the National Day Parade 2014 (NDP2014) rehearsals, preview and the actual event dates. For more information, visit [ https://singpromos.com/news/ndp-2014-road-closures-singapore-21-jun-9-aug-2014-103562/ ]. 
LOCATION:
URL:https://singpromos.com/news/ndp-2014-road-closures-singapore-21-jun-9-aug-2014-103562/
END:VEVENT
END:VCALENDAR