BEGIN:VCALENDAR
PRODID:-//SINGPromos.com//NONSGML v1.0//EN
VERSION:2.0
CALSCALE:GREGORIAN
METHOD:PUBLISH
X-WR-CALNAME:SINGPromos.com
X-ORIGINAL-URL:https://singpromos.com
X-WR-CALDESC:Events for SINGPromos.com
BEGIN:VEVENT
DTSTART:20140704T000000
DTEND:20140711T235900
DTSTAMP:20260420T061841
CREATED:20140704T134429
LAST-MODIFIED:20140704T123328
UID:103705@https://singpromos.com
SUMMARY:British Airways $1888 Air Fares Promo 4 - 11 Jul 2014
DESCRIPTION:Celebrating 4th of July with great fares to over 80 destinations in the US.. For more information, visit [ https://singpromos.com/airlines-flights/british-airways-1888-air-fares-promo-4-11-jul-2014-103705/ ]. 
LOCATION:
URL:https://singpromos.com/airlines-flights/british-airways-1888-air-fares-promo-4-11-jul-2014-103705/
END:VEVENT
END:VCALENDAR