BEGIN:VCALENDAR
PRODID:-//SINGPromos.com//NONSGML v1.0//EN
VERSION:2.0
CALSCALE:GREGORIAN
METHOD:PUBLISH
X-WR-CALNAME:SINGPromos.com
X-ORIGINAL-URL:https://singpromos.com
X-WR-CALDESC:Events for SINGPromos.com
BEGIN:VEVENT
DTSTART:20140704T000000
DTEND:20140717T235900
DTSTAMP:20260424T034621
CREATED:20140705T100657
LAST-MODIFIED:20140705T020953
UID:103774@https://singpromos.com
SUMMARY:Giant TVs, Home Theatre Systems & Other Electronics Offers 4 - 17 Jul 2014
DESCRIPTION:Check out Giant's offers on selected TVs, Home Theatre Systems, Powerbanks and more. For more information, visit [ https://singpromos.com/audio-visual/giant-tvs-home-theatre-systems-other-electronics-offers-4-17-jul-2014-103774/ ]. 
LOCATION:
URL:https://singpromos.com/audio-visual/giant-tvs-home-theatre-systems-other-electronics-offers-4-17-jul-2014-103774/
END:VEVENT
END:VCALENDAR