BEGIN:VCALENDAR
PRODID:-//SINGPromos.com//NONSGML v1.0//EN
VERSION:2.0
CALSCALE:GREGORIAN
METHOD:PUBLISH
X-WR-CALNAME:SINGPromos.com
X-ORIGINAL-URL:https://singpromos.com
X-WR-CALDESC:Events for SINGPromos.com
BEGIN:VEVENT
DTSTART:20140704T000000
DTEND:20140706T235900
DTSTAMP:20260422T063111
CREATED:20140705T195919
LAST-MODIFIED:20140706T003313
UID:103836@https://singpromos.com
SUMMARY:Courts Mega Raya Sale Offers 4 - 6 Jul 2014
DESCRIPTION:3 days only Mega Raya Further Clear Out offers from 4 July to 6 July.. For more information, visit [ https://singpromos.com/department-stores/courts-mega-raya-sale-offers-4-6-jul-2014-103836/ ]. 
LOCATION:
URL:https://singpromos.com/department-stores/courts-mega-raya-sale-offers-4-6-jul-2014-103836/
END:VEVENT
END:VCALENDAR