BEGIN:VCALENDAR
PRODID:-//SINGPromos.com//NONSGML v1.0//EN
VERSION:2.0
CALSCALE:GREGORIAN
METHOD:PUBLISH
X-WR-CALNAME:SINGPromos.com
X-ORIGINAL-URL:https://singpromos.com
X-WR-CALDESC:Events for SINGPromos.com
BEGIN:VEVENT
DTSTART:20140714T000000
DTEND:20140720T235900
DTSTAMP:20260420T232627
CREATED:20140708T082332
LAST-MODIFIED:20140708T001733
UID:104047@https://singpromos.com
SUMMARY:Isetan Household & Bedlinen Sale @ Isetan Katong 14 - 20 Jul 2014
DESCRIPTION:Enjoy up to 70% off. For more information, visit [ https://singpromos.com/household/isetan-household-bedlinen-sale-isetan-katong-14-20-jul-2014-104047/ ]. 
LOCATION:449269
URL:https://singpromos.com/household/isetan-household-bedlinen-sale-isetan-katong-14-20-jul-2014-104047/
END:VEVENT
END:VCALENDAR