BEGIN:VCALENDAR
PRODID:-//SINGPromos.com//NONSGML v1.0//EN
VERSION:2.0
CALSCALE:GREGORIAN
METHOD:PUBLISH
X-WR-CALNAME:SINGPromos.com
X-ORIGINAL-URL:https://singpromos.com
X-WR-CALDESC:Events for SINGPromos.com
BEGIN:VEVENT
DTSTART:20140709T000000
DTEND:20180102T235900
DTSTAMP:20260422T082233
CREATED:20140709T172004
LAST-MODIFIED:20170621T174430
UID:104161@https://singpromos.com
SUMMARY:Gelare: Save 50% off regular waffles at all outlets on Tuesdays!
DESCRIPTION:Enjoy 50% off all regular waffles at Gelare on Tuesdays. Valid for dine-in only and not valid on public holidays. For more information, visit [ https://singpromos.com/dining-restaurants-food/gelare-50-off-waffles-tuesdays-promo-9-jul-2014-104161/ ]. 
LOCATION:
URL:https://singpromos.com/dining-restaurants-food/gelare-50-off-waffles-tuesdays-promo-9-jul-2014-104161/
END:VEVENT
END:VCALENDAR