BEGIN:VCALENDAR
PRODID:-//SINGPromos.com//NONSGML v1.0//EN
VERSION:2.0
CALSCALE:GREGORIAN
METHOD:PUBLISH
X-WR-CALNAME:SINGPromos.com
X-ORIGINAL-URL:https://singpromos.com
X-WR-CALDESC:Events for SINGPromos.com
BEGIN:VEVENT
DTSTART:20140711T000000
DTEND:20140713T235900
DTSTAMP:20260422T080715
CREATED:20140709T192107
LAST-MODIFIED:20140711T225526
UID:104211@https://singpromos.com
SUMMARY:Triumph 50% Sale Underwear & Sleepwear Online SALE 11 - 13 Jul 2014
DESCRIPTION:Get 50% OFF Underwear and Sleepwear. For more information, visit [ https://singpromos.com/fashion-accessories/triumph-50-sale-underwear-sleepwear-online-sale-11-13-jul-2014-104211/ ]. 
LOCATION:
URL:https://singpromos.com/fashion-accessories/triumph-50-sale-underwear-sleepwear-online-sale-11-13-jul-2014-104211/
END:VEVENT
END:VCALENDAR