BEGIN:VCALENDAR
PRODID:-//SINGPromos.com//NONSGML v1.0//EN
VERSION:2.0
CALSCALE:GREGORIAN
METHOD:PUBLISH
X-WR-CALNAME:SINGPromos.com
X-ORIGINAL-URL:https://singpromos.com
X-WR-CALDESC:Events for SINGPromos.com
BEGIN:VEVENT
DTSTART:20140710T000000
DTEND:20140716T235900
DTSTAMP:20260422T082128
CREATED:20140710T224421
LAST-MODIFIED:20140710T224421
UID:104281@https://singpromos.com
SUMMARY:Elizabeth Arden New Ceramide Caplet Serum Launch @ Takashimaya 10 - 16 Jul 2014
DESCRIPTION:Reclaim your radiant complexion in less than a week with a breakthrough regimen for stressed out skin. For more information, visit [ https://singpromos.com/cosmetics/elizabeth-arden-new-ceramide-caplet-serum-launch-takashimaya-10-16-jul-2014-104281/ ]. 
LOCATION:238873
URL:https://singpromos.com/cosmetics/elizabeth-arden-new-ceramide-caplet-serum-launch-takashimaya-10-16-jul-2014-104281/
END:VEVENT
END:VCALENDAR