BEGIN:VCALENDAR
PRODID:-//SINGPromos.com//NONSGML v1.0//EN
VERSION:2.0
CALSCALE:GREGORIAN
METHOD:PUBLISH
X-WR-CALNAME:SINGPromos.com
X-ORIGINAL-URL:https://singpromos.com
X-WR-CALDESC:Events for SINGPromos.com
BEGIN:VEVENT
DTSTART:20140712T000000
DTEND:20140713T235900
DTSTAMP:20260422T063146
CREATED:20140712T185532
LAST-MODIFIED:20140712T185532
UID:104674@https://singpromos.com
SUMMARY:Courts Mega Raya Final Clear Out Offers 12 - 13 Jul 2014
DESCRIPTION:Mega Raya sale with final Clear Out offers from 12 July to 13 July. Get 7% GST absorbed on all cameras and check out the Mega Raya Bazaar. For more information, visit [ https://singpromos.com/department-stores/courts-mega-raya-final-clear-out-offers-12-13-jul-2014-104674/ ]. 
LOCATION:
URL:https://singpromos.com/department-stores/courts-mega-raya-final-clear-out-offers-12-13-jul-2014-104674/
END:VEVENT
END:VCALENDAR