BEGIN:VCALENDAR
PRODID:-//SINGPromos.com//NONSGML v1.0//EN
VERSION:2.0
CALSCALE:GREGORIAN
METHOD:PUBLISH
X-WR-CALNAME:SINGPromos.com
X-ORIGINAL-URL:https://singpromos.com
X-WR-CALDESC:Events for SINGPromos.com
BEGIN:VEVENT
DTSTART:20140718T000000
DTEND:20140720T235900
DTSTAMP:20260422T082116
CREATED:20140718T145209
LAST-MODIFIED:20140718T145209
UID:105263@https://singpromos.com
SUMMARY:World of Sports 40% OFF Almost Everything Sale 18 - 20 Jul 2014
DESCRIPTION:Available at World of Sports, World of Outdoors, Mizuno, Columbia and more. For more information, visit [ https://singpromos.com/sports/world-of-sports-40-off-almost-everything-sale-18-20-jul-2014-105263/ ]. 
LOCATION:
URL:https://singpromos.com/sports/world-of-sports-40-off-almost-everything-sale-18-20-jul-2014-105263/
END:VEVENT
END:VCALENDAR