BEGIN:VCALENDAR
PRODID:-//SINGPromos.com//NONSGML v1.0//EN
VERSION:2.0
CALSCALE:GREGORIAN
METHOD:PUBLISH
X-WR-CALNAME:SINGPromos.com
X-ORIGINAL-URL:https://singpromos.com
X-WR-CALDESC:Events for SINGPromos.com
BEGIN:VEVENT
DTSTART:20140718T000000
DTEND:20140731T235900
DTSTAMP:20260424T034708
CREATED:20140719T034153
LAST-MODIFIED:20140719T014446
UID:105323@https://singpromos.com
SUMMARY:Giant National Day Themed Apparel Fair 18 - 31 Jul 2014
DESCRIPTION:Check out red and white National Day Specials Apparel Fair at Giant Hypermarket. For more information, visit [ https://singpromos.com/fashion-accessories/giant-national-day-themed-apparel-fair-18-31-jul-2014-105323/ ]. 
LOCATION:
URL:https://singpromos.com/fashion-accessories/giant-national-day-themed-apparel-fair-18-31-jul-2014-105323/
END:VEVENT
END:VCALENDAR