BEGIN:VCALENDAR
PRODID:-//SINGPromos.com//NONSGML v1.0//EN
VERSION:2.0
CALSCALE:GREGORIAN
METHOD:PUBLISH
X-WR-CALNAME:SINGPromos.com
X-ORIGINAL-URL:https://singpromos.com
X-WR-CALDESC:Events for SINGPromos.com
BEGIN:VEVENT
DTSTART:20140719T000000
DTEND:20140720T235900
DTSTAMP:20260420T232527
CREATED:20140719T170703
LAST-MODIFIED:20140719T170703
UID:105473@https://singpromos.com
SUMMARY:Courts Mega Raya Sale Offers 19 - 20 Jul 2014
DESCRIPTION:Courts continues their Mega Raya sale with final Clear Out offers from 19 July to 20 July. GST 7% Absorbed On All Notebooks. For more information, visit [ https://singpromos.com/department-stores/courts-mega-raya-sale-offers-19-20-jul-2014-105473/ ]. 
LOCATION:
URL:https://singpromos.com/department-stores/courts-mega-raya-sale-offers-19-20-jul-2014-105473/
END:VEVENT
END:VCALENDAR