BEGIN:VCALENDAR
PRODID:-//SINGPromos.com//NONSGML v1.0//EN
VERSION:2.0
CALSCALE:GREGORIAN
METHOD:PUBLISH
X-WR-CALNAME:SINGPromos.com
X-ORIGINAL-URL:https://singpromos.com
X-WR-CALDESC:Events for SINGPromos.com
BEGIN:VEVENT
DTSTART:20140723T000000
DTEND:20140731T235900
DTSTAMP:20260420T191448
CREATED:20140723T171102
LAST-MODIFIED:20140723T171102
UID:105858@https://singpromos.com
SUMMARY:Dunkin' Donuts Doughnut Promotion Offers 23 - 31 Jul 2014
DESCRIPTION:Get 3 Donuts and 1 Ocean Spray for $6.80 (usual $7.60). For more information, visit [ https://singpromos.com/dining-restaurants-food/dunkin-donuts-doughnut-promotion-offers-23-31-jul-2014-105858/ ]. 
LOCATION:
URL:https://singpromos.com/dining-restaurants-food/dunkin-donuts-doughnut-promotion-offers-23-31-jul-2014-105858/
END:VEVENT
END:VCALENDAR