BEGIN:VCALENDAR
PRODID:-//SINGPromos.com//NONSGML v1.0//EN
VERSION:2.0
CALSCALE:GREGORIAN
METHOD:PUBLISH
X-WR-CALNAME:SINGPromos.com
X-ORIGINAL-URL:https://singpromos.com
X-WR-CALDESC:Events for SINGPromos.com
BEGIN:VEVENT
DTSTART:20140726T000000
DTEND:20140728T235900
DTSTAMP:20260422T063110
CREATED:20140726T172333
LAST-MODIFIED:20140726T172333
UID:106488@https://singpromos.com
SUMMARY:Courts 3 Days Festive Overstock Clearance Sale 26 - 28 Jul 2014
DESCRIPTION:3 Days Festive Overstock Clearance Sale offers from 26 July to 28 July. Megastore shopping hours extended till 1am on Saturday and Sunday. For more information, visit [ https://singpromos.com/department-stores/courts-3-days-festive-overstock-clearance-sale-26-28-jul-2014-106488/ ]. 
LOCATION:
URL:https://singpromos.com/department-stores/courts-3-days-festive-overstock-clearance-sale-26-28-jul-2014-106488/
END:VEVENT
END:VCALENDAR