BEGIN:VCALENDAR
PRODID:-//SINGPromos.com//NONSGML v1.0//EN
VERSION:2.0
CALSCALE:GREGORIAN
METHOD:PUBLISH
X-WR-CALNAME:SINGPromos.com
X-ORIGINAL-URL:https://singpromos.com
X-WR-CALDESC:Events for SINGPromos.com
BEGIN:VEVENT
DTSTART:20140730T000000
DTEND:20141007T235900
DTSTAMP:20260420T055005
CREATED:20140730T123949
LAST-MODIFIED:20141001T155943
UID:106805@https://singpromos.com
SUMMARY:Pizza Hut NEW Cheesy 7 Pockets Pizza 30 Jul - 7 Oct 2014
DESCRIPTION:Sink your teeth into the Cheesy 7 pockets, a perfect blend of 7 delightful cheeses, handpicked individually for their unique flavours.. For more information, visit [ https://singpromos.com/dining-restaurants-food/pizza-hut-new-cheesy-7-pockets-pizza-30-jul-2014-106805/ ]. 
LOCATION:
URL:https://singpromos.com/dining-restaurants-food/pizza-hut-new-cheesy-7-pockets-pizza-30-jul-2014-106805/
END:VEVENT
END:VCALENDAR