BEGIN:VCALENDAR
PRODID:-//SINGPromos.com//NONSGML v1.0//EN
VERSION:2.0
CALSCALE:GREGORIAN
METHOD:PUBLISH
X-WR-CALNAME:SINGPromos.com
X-ORIGINAL-URL:https://singpromos.com
X-WR-CALDESC:Events for SINGPromos.com
BEGIN:VEVENT
DTSTART:20140802T000000
DTEND:20140803T235900
DTSTAMP:20260422T082308
CREATED:20140730T163108
LAST-MODIFIED:20140730T163158
UID:106859@https://singpromos.com
SUMMARY:Dynasty Travel Pre Natas Fair @ Marina Square 2 - 3 Aug 2014
DESCRIPTION:1 for 1 Travel Packages, 2nd Traveller Flies Free, HSBC cardmembers exclusive FREE gifts with a minimum spend and more. For more information, visit [ https://singpromos.com/happenings/dynasty-travel-pre-natas-fair-marina-square-2-3-aug-2014-106859/ ]. 
LOCATION:039594
URL:https://singpromos.com/happenings/dynasty-travel-pre-natas-fair-marina-square-2-3-aug-2014-106859/
END:VEVENT
END:VCALENDAR