BEGIN:VCALENDAR
PRODID:-//SINGPromos.com//NONSGML v1.0//EN
VERSION:2.0
CALSCALE:GREGORIAN
METHOD:PUBLISH
X-WR-CALNAME:SINGPromos.com
X-ORIGINAL-URL:https://singpromos.com
X-WR-CALDESC:Events for SINGPromos.com
BEGIN:VEVENT
DTSTART:20110108T000000
DTEND:20110116T235900
DTSTAMP:20260419T220615
CREATED:20110107T185957
LAST-MODIFIED:20110123T012331
UID:1071@https://singpromos.com
SUMMARY:Warehouse Sale Up To 70% Off January 2011
DESCRIPTION:There is a warehouse sale at "33 Sungei Kadut Avenue Level 3" from 7th January 2011 to 9th January 2011, 11am to 8pm. No further information other than that the range of items, which are branded furniture, accessories and lighting. See ad image for brands and map of location.. For more information, visit [ https://singpromos.com/furniture/warehouse-sale-up-to-70-off-january-2011-1071/ ]. 
LOCATION:
URL:https://singpromos.com/furniture/warehouse-sale-up-to-70-off-january-2011-1071/
END:VEVENT
END:VCALENDAR