BEGIN:VCALENDAR
PRODID:-//SINGPromos.com//NONSGML v1.0//EN
VERSION:2.0
CALSCALE:GREGORIAN
METHOD:PUBLISH
X-WR-CALNAME:SINGPromos.com
X-ORIGINAL-URL:https://singpromos.com
X-WR-CALDESC:Events for SINGPromos.com
BEGIN:VEVENT
DTSTART:20140801T000000
DTEND:20141031T235900
DTSTAMP:20260420T045004
CREATED:20140801T144122
LAST-MODIFIED:20140801T144449
UID:107154@https://singpromos.com
SUMMARY:ANZ One Dines FREE Dining Deals 1 Aug - 31 Oct 2014
DESCRIPTION:Enjoy One Dines Free privileges at some of the finest restaurants in town, and indulge in an epicurean experience that's truly satisfying.. For more information, visit [ https://singpromos.com/dining-restaurants-food/anz-one-dines-free-dining-deals-1-aug-31-oct-2014-107154/ ]. 
LOCATION:
URL:https://singpromos.com/dining-restaurants-food/anz-one-dines-free-dining-deals-1-aug-31-oct-2014-107154/
END:VEVENT
END:VCALENDAR