BEGIN:VCALENDAR
PRODID:-//SINGPromos.com//NONSGML v1.0//EN
VERSION:2.0
CALSCALE:GREGORIAN
METHOD:PUBLISH
X-WR-CALNAME:SINGPromos.com
X-ORIGINAL-URL:https://singpromos.com
X-WR-CALDESC:Events for SINGPromos.com
BEGIN:VEVENT
DTSTART:20140801T000000
DTEND:20140930T235900
DTSTAMP:20260424T034620
CREATED:20140801T164917
LAST-MODIFIED:20140801T164917
UID:107216@https://singpromos.com
SUMMARY:Kit Kat FREE Tote Bag Promotion 1 Aug - 30 Sep 2014
DESCRIPTION:Spend $8 on any on any Kit Kat products at Cold Storage, Giant Hypermarket or NTUC Fairprice to redeem a free tote bag at roadshows islandwide. For more information, visit [ https://singpromos.com/dining-restaurants-food/kit-kat-free-tote-bag-promotion-1-aug-30-sep-2014-107216/ ]. 
LOCATION:
URL:https://singpromos.com/dining-restaurants-food/kit-kat-free-tote-bag-promotion-1-aug-30-sep-2014-107216/
END:VEVENT
END:VCALENDAR