BEGIN:VCALENDAR
PRODID:-//SINGPromos.com//NONSGML v1.0//EN
VERSION:2.0
CALSCALE:GREGORIAN
METHOD:PUBLISH
X-WR-CALNAME:SINGPromos.com
X-ORIGINAL-URL:https://singpromos.com
X-WR-CALDESC:Events for SINGPromos.com
BEGIN:VEVENT
DTSTART:20140726T000000
DTEND:20140831T235900
DTSTAMP:20260424T034605
CREATED:20140807T200840
LAST-MODIFIED:20140807T200921
UID:108083@https://singpromos.com
SUMMARY:Milo Buy $28 Worth & Get FREE $5 CapitaVoucher 26 Jul - 31 Aug 2014
DESCRIPTION:Get a FREE $5 CapitaVoucher when you purchase $35 worth of MILO Beverages from now till 31 August. For more information, visit [ https://singpromos.com/dining-restaurants-food/milo-buy-28-worth-get-free-5-capitavoucher-26-jul-31-aug-2014-108083/ ]. 
LOCATION:
URL:https://singpromos.com/dining-restaurants-food/milo-buy-28-worth-get-free-5-capitavoucher-26-jul-31-aug-2014-108083/
END:VEVENT
END:VCALENDAR