BEGIN:VCALENDAR
PRODID:-//SINGPromos.com//NONSGML v1.0//EN
VERSION:2.0
CALSCALE:GREGORIAN
METHOD:PUBLISH
X-WR-CALNAME:SINGPromos.com
X-ORIGINAL-URL:https://singpromos.com
X-WR-CALDESC:Events for SINGPromos.com
BEGIN:VEVENT
DTSTART:20140808T000000
DTEND:20140810T235900
DTSTAMP:20260422T082241
CREATED:20140808T165556
LAST-MODIFIED:20140808T170140
UID:108279@https://singpromos.com
SUMMARY:Winter Time National Day Sale 8 Aug 2014
DESCRIPTION:Featuring discounts of up to 50% Off.. For more information, visit [ https://singpromos.com/fashion-accessories/winter-time-national-day-sale-8-aug-2014-108279/ ]. 
LOCATION:
URL:https://singpromos.com/fashion-accessories/winter-time-national-day-sale-8-aug-2014-108279/
END:VEVENT
END:VCALENDAR