BEGIN:VCALENDAR
PRODID:-//SINGPromos.com//NONSGML v1.0//EN
VERSION:2.0
CALSCALE:GREGORIAN
METHOD:PUBLISH
X-WR-CALNAME:SINGPromos.com
X-ORIGINAL-URL:https://singpromos.com
X-WR-CALDESC:Events for SINGPromos.com
BEGIN:VEVENT
DTSTART:20140809T000000
DTEND:20140811T235900
DTSTAMP:20260420T203414
CREATED:20140809T172629
LAST-MODIFIED:20140809T172629
UID:108557@https://singpromos.com
SUMMARY:Courts SG 50 Preview Sale 9 - 11 Aug 2014
DESCRIPTION:Courts is celebrating with 50% savings & never before deals from 49cents! Prices definitely lower than tradeshow. For more information, visit [ https://singpromos.com/department-stores/courts-sg-50-preview-sale-9-11-aug-2014-108557/ ]. 
LOCATION:
URL:https://singpromos.com/department-stores/courts-sg-50-preview-sale-9-11-aug-2014-108557/
END:VEVENT
END:VCALENDAR