BEGIN:VCALENDAR
PRODID:-//SINGPromos.com//NONSGML v1.0//EN
VERSION:2.0
CALSCALE:GREGORIAN
METHOD:PUBLISH
X-WR-CALNAME:SINGPromos.com
X-ORIGINAL-URL:https://singpromos.com
X-WR-CALDESC:Events for SINGPromos.com
BEGIN:VEVENT
DTSTART:20140811T000000
DTEND:20140817T235900
DTSTAMP:20260422T082107
CREATED:20140811T170550
LAST-MODIFIED:20140815T175033
UID:108703@https://singpromos.com
SUMMARY:World of Sports 23% OFF Storewide Promo 11 Aug 2014
DESCRIPTION:Members enjoy an additional 20% off. For more information, visit [ https://singpromos.com/sports/world-of-sports-23-off-storewide-promo-11-aug-2014-108703/ ]. 
LOCATION:
URL:https://singpromos.com/sports/world-of-sports-23-off-storewide-promo-11-aug-2014-108703/
END:VEVENT
END:VCALENDAR