BEGIN:VCALENDAR
PRODID:-//SINGPromos.com//NONSGML v1.0//EN
VERSION:2.0
CALSCALE:GREGORIAN
METHOD:PUBLISH
X-WR-CALNAME:SINGPromos.com
X-ORIGINAL-URL:https://singpromos.com
X-WR-CALDESC:Events for SINGPromos.com
BEGIN:VEVENT
DTSTART:20140815T000000
DTEND:20140930T235900
DTSTAMP:20260422T082310
CREATED:20140815T142916
LAST-MODIFIED:20140815T142916
UID:109073@https://singpromos.com
SUMMARY:Dumex Spend $150 & Get $18 Voucher @ NTUC Fairprice 15 Aug - 30 Sep 2014
DESCRIPTION:Redeem a $18 Dumex Mamil Gold Voucher with every $150 purchase of participating Dumex Mamil Gold products. For more information, visit [ https://singpromos.com/babies-mothers/dumex-spend-150-get-18-voucher-ntuc-fairprice-15-aug-30-sep-2014-109073/ ]. 
LOCATION:
URL:https://singpromos.com/babies-mothers/dumex-spend-150-get-18-voucher-ntuc-fairprice-15-aug-30-sep-2014-109073/
END:VEVENT
END:VCALENDAR