BEGIN:VCALENDAR
PRODID:-//SINGPromos.com//NONSGML v1.0//EN
VERSION:2.0
CALSCALE:GREGORIAN
METHOD:PUBLISH
X-WR-CALNAME:SINGPromos.com
X-ORIGINAL-URL:https://singpromos.com
X-WR-CALDESC:Events for SINGPromos.com
BEGIN:VEVENT
DTSTART:20140815T000000
DTEND:20140824T235900
DTSTAMP:20260422T074737
CREATED:20140818T163448
LAST-MODIFIED:20140818T163448
UID:109437@https://singpromos.com
SUMMARY:Haute Watch & Jewellery Exhibition @ Marina Bay Sands 15 - 24 Aug 2014
DESCRIPTION:Luxuriate in the exquisite allure of the world's renowned luxury watch & jewellery brands at The Shoppes at Marina Bay Sands.. For more information, visit [ https://singpromos.com/happenings/haute-watch-jewellery-exhibition-marina-bay-sands-15-24-aug-2014-109437/ ]. 
LOCATION:018956
URL:https://singpromos.com/happenings/haute-watch-jewellery-exhibition-marina-bay-sands-15-24-aug-2014-109437/
END:VEVENT
END:VCALENDAR