BEGIN:VCALENDAR
PRODID:-//SINGPromos.com//NONSGML v1.0//EN
VERSION:2.0
CALSCALE:GREGORIAN
METHOD:PUBLISH
X-WR-CALNAME:SINGPromos.com
X-ORIGINAL-URL:https://singpromos.com
X-WR-CALDESC:Events for SINGPromos.com
BEGIN:VEVENT
DTSTART:20140822T000000
DTEND:20140824T235900
DTSTAMP:20260422T082300
CREATED:20140821T184318
LAST-MODIFIED:20140821T184318
UID:109718@https://singpromos.com
SUMMARY:Philips Home Lighting Ceiling Lights Weekend Special 22 - 24 Aug 2014
DESCRIPTION:Enjoy up to 40% off selected ceiling lights. For more information, visit [ https://singpromos.com/household/philips-home-lighting-ceiling-lights-weekend-special-22-24-aug-2014-109718/ ]. 
LOCATION:
URL:https://singpromos.com/household/philips-home-lighting-ceiling-lights-weekend-special-22-24-aug-2014-109718/
END:VEVENT
END:VCALENDAR