BEGIN:VCALENDAR
PRODID:-//SINGPromos.com//NONSGML v1.0//EN
VERSION:2.0
CALSCALE:GREGORIAN
METHOD:PUBLISH
X-WR-CALNAME:SINGPromos.com
X-ORIGINAL-URL:https://singpromos.com
X-WR-CALDESC:Events for SINGPromos.com
BEGIN:VEVENT
DTSTART:20140822T000000
DTEND:20140914T235900
DTSTAMP:20260422T082147
CREATED:20140822T005405
LAST-MODIFIED:20140907T112840
UID:109783@https://singpromos.com
SUMMARY:Metro Big Sale 22 Aug - 14 Sep 2014
DESCRIPTION:Enjoy discounts and special offers. For more information, visit [ https://singpromos.com/department-stores/metro-big-sale-22-aug-14-sep-2014-109783/ ]. 
LOCATION:
URL:https://singpromos.com/department-stores/metro-big-sale-22-aug-14-sep-2014-109783/
END:VEVENT
END:VCALENDAR