BEGIN:VCALENDAR
PRODID:-//SINGPromos.com//NONSGML v1.0//EN
VERSION:2.0
CALSCALE:GREGORIAN
METHOD:PUBLISH
X-WR-CALNAME:SINGPromos.com
X-ORIGINAL-URL:https://singpromos.com
X-WR-CALDESC:Events for SINGPromos.com
BEGIN:VEVENT
DTSTART:20140822T000000
DTEND:20140824T235900
DTSTAMP:20260420T013849
CREATED:20140822T203022
LAST-MODIFIED:20140822T203022
UID:109873@https://singpromos.com
SUMMARY:Reebok 15% OFF Zquick Models Coupon 22 Aug 2014
DESCRIPTION:Start, stop and turn on a dime with Reebok Zquick Electrify. For more information, visit [ https://singpromos.com/footwear/reebok-15-off-zquick-models-coupon-22-aug-2014-109873/ ]. 
LOCATION:
URL:https://singpromos.com/footwear/reebok-15-off-zquick-models-coupon-22-aug-2014-109873/
END:VEVENT
END:VCALENDAR