BEGIN:VCALENDAR
PRODID:-//SINGPromos.com//NONSGML v1.0//EN
VERSION:2.0
CALSCALE:GREGORIAN
METHOD:PUBLISH
X-WR-CALNAME:SINGPromos.com
X-ORIGINAL-URL:https://singpromos.com
X-WR-CALDESC:Events for SINGPromos.com
BEGIN:VEVENT
DTSTART:20140822T000000
DTEND:20140828T235900
DTSTAMP:20260422T082300
CREATED:20140822T202106
LAST-MODIFIED:20140822T202106
UID:109879@https://singpromos.com
SUMMARY:Elizabeth Arden Promotion @ Paragon 22 - 28 Aug 2014
DESCRIPTION:Purchase any Untold fragrance 100ml and receive complimentary Untold Shower Gel worth $65. For more information, visit [ https://singpromos.com/happenings/elizabeth-arden-promotion-paragon-22-28-aug-2014-109879/ ]. 
LOCATION:238859
URL:https://singpromos.com/happenings/elizabeth-arden-promotion-paragon-22-28-aug-2014-109879/
END:VEVENT
END:VCALENDAR