BEGIN:VCALENDAR
PRODID:-//SINGPromos.com//NONSGML v1.0//EN
VERSION:2.0
CALSCALE:GREGORIAN
METHOD:PUBLISH
X-WR-CALNAME:SINGPromos.com
X-ORIGINAL-URL:https://singpromos.com
X-WR-CALDESC:Events for SINGPromos.com
BEGIN:VEVENT
DTSTART:20140828T000000
DTEND:20140831T235900
DTSTAMP:20260422T080353
CREATED:20140829T200600
LAST-MODIFIED:20140829T201135
UID:110647@https://singpromos.com
SUMMARY:Robinsons Spend $120 & Get Free $12 Voucher 28 - 31 Aug 2014
DESCRIPTION:All shoppers will get to enjoy cash vouchers when you shop at Robinsons. So the more you spend, the more you're rewarded.. For more information, visit [ https://singpromos.com/department-stores/robinsons-spend-120-get-free-12-voucher-28-31-aug-2014-110647/ ]. 
LOCATION:
URL:https://singpromos.com/department-stores/robinsons-spend-120-get-free-12-voucher-28-31-aug-2014-110647/
END:VEVENT
END:VCALENDAR