BEGIN:VCALENDAR
PRODID:-//SINGPromos.com//NONSGML v1.0//EN
VERSION:2.0
CALSCALE:GREGORIAN
METHOD:PUBLISH
X-WR-CALNAME:SINGPromos.com
X-ORIGINAL-URL:https://singpromos.com
X-WR-CALDESC:Events for SINGPromos.com
BEGIN:VEVENT
DTSTART:20140829T000000
DTEND:20140831T235900
DTSTAMP:20260422T082308
CREATED:20140830T173954
LAST-MODIFIED:20140831T124027
UID:110791@https://singpromos.com
SUMMARY:Brandsfever Handbags & Footwear Sale @ Mandarin Orchard 29 - 31 Aug 2014
DESCRIPTION:Brands include Celine, Gucci, Givenchy, Miu Miu, Louis Vuitton and more. For more information, visit [ https://singpromos.com/happenings/brandsfever-handbags-footwear-sale-mandarin-orchard-29-31-aug-2014-110791/ ]. 
LOCATION:238867
URL:https://singpromos.com/happenings/brandsfever-handbags-footwear-sale-mandarin-orchard-29-31-aug-2014-110791/
END:VEVENT
END:VCALENDAR