BEGIN:VCALENDAR
PRODID:-//SINGPromos.com//NONSGML v1.0//EN
VERSION:2.0
CALSCALE:GREGORIAN
METHOD:PUBLISH
X-WR-CALNAME:SINGPromos.com
X-ORIGINAL-URL:https://singpromos.com
X-WR-CALDESC:Events for SINGPromos.com
BEGIN:VEVENT
DTSTART:20140825T000000
DTEND:20140907T235900
DTSTAMP:20260422T082305
CREATED:20140831T014248
LAST-MODIFIED:20140831T014248
UID:110846@https://singpromos.com
SUMMARY:Tiong Bahru Plaza Mid-Autumn Festival 25 Aug - 7 Sep 2014
DESCRIPTION:Have a great time at Tiong Bahru Plaza, this Mid-Autumn Festival. For more information, visit [ https://singpromos.com/shopping-malls/tiong-bahru-plaza-mid-autumn-festival-25-aug-7-sep-2014-110846/ ]. 
LOCATION:168732
URL:https://singpromos.com/shopping-malls/tiong-bahru-plaza-mid-autumn-festival-25-aug-7-sep-2014-110846/
END:VEVENT
END:VCALENDAR