BEGIN:VCALENDAR
PRODID:-//SINGPromos.com//NONSGML v1.0//EN
VERSION:2.0
CALSCALE:GREGORIAN
METHOD:PUBLISH
X-WR-CALNAME:SINGPromos.com
X-ORIGINAL-URL:https://singpromos.com
X-WR-CALDESC:Events for SINGPromos.com
BEGIN:VEVENT
DTSTART:20140831T000000
DTEND:20140916T235900
DTSTAMP:20260422T082306
CREATED:20140831T013418
LAST-MODIFIED:20140830T225252
UID:110861@https://singpromos.com
SUMMARY:Amazon.com 20% OFF Jeans Coupon Code 31 Aug - 16 Sep 2014
DESCRIPTION:Get 20% off Jeans with the coupon code below when you make a minimum $100 spend. For more information, visit [ https://singpromos.com/fashion-accessories/amazon-com-20-off-jeans-coupon-code-31-aug-16-sep-2014-110861/ ]. 
LOCATION:
URL:https://singpromos.com/fashion-accessories/amazon-com-20-off-jeans-coupon-code-31-aug-16-sep-2014-110861/
END:VEVENT
END:VCALENDAR