BEGIN:VCALENDAR
PRODID:-//SINGPromos.com//NONSGML v1.0//EN
VERSION:2.0
CALSCALE:GREGORIAN
METHOD:PUBLISH
X-WR-CALNAME:SINGPromos.com
X-ORIGINAL-URL:https://singpromos.com
X-WR-CALDESC:Events for SINGPromos.com
BEGIN:VEVENT
DTSTART:20140904T000000
DTEND:20140914T235900
DTSTAMP:20260422T080434
CREATED:20140904T163839
LAST-MODIFIED:20140904T163839
UID:111413@https://singpromos.com
SUMMARY:Robinsons Baby Care Offers 4 - 14 Sep 2014
DESCRIPTION:From mealtime to playtime to bedtime, you'll find everything you need to give your baby the best.. For more information, visit [ https://singpromos.com/babies-mothers/robinsons-baby-care-offers-4-14-sep-2014-111413/ ]. 
LOCATION:
URL:https://singpromos.com/babies-mothers/robinsons-baby-care-offers-4-14-sep-2014-111413/
END:VEVENT
END:VCALENDAR