BEGIN:VCALENDAR
PRODID:-//SINGPromos.com//NONSGML v1.0//EN
VERSION:2.0
CALSCALE:GREGORIAN
METHOD:PUBLISH
X-WR-CALNAME:SINGPromos.com
X-ORIGINAL-URL:https://singpromos.com
X-WR-CALDESC:Events for SINGPromos.com
BEGIN:VEVENT
DTSTART:20140904T000000
DTEND:20140914T235900
DTSTAMP:20260422T080531
CREATED:20140904T192735
LAST-MODIFIED:20140913T192037
UID:111416@https://singpromos.com
SUMMARY:Robinsons September Specials 4 - 14 Sep 2014
DESCRIPTION:e spoilt for choice at Robinsons stores from Thursday, 4 September to Sunday, 14 September 2014. For more information, visit [ https://singpromos.com/department-stores/robinsons-september-specials-4-14-sep-2014-111416/ ]. 
LOCATION:
URL:https://singpromos.com/department-stores/robinsons-september-specials-4-14-sep-2014-111416/
END:VEVENT
END:VCALENDAR